BEGIN:VCALENDAR
VERSION:2.0
PRODID:-//Esperanza Peace and Justice Center - ECPv5.14.1//NONSGML v1.0//EN
CALSCALE:GREGORIAN
METHOD:PUBLISH
X-WR-CALNAME:Esperanza Peace and Justice Center
X-ORIGINAL-URL:https://esperanzacenter.org
X-WR-CALDESC:Events for Esperanza Peace and Justice Center
BEGIN:VTIMEZONE
TZID:America/Chicago
BEGIN:DAYLIGHT
TZOFFSETFROM:-0600
TZOFFSETTO:-0500
TZNAME:CDT
DTSTART:20190310T080000
END:DAYLIGHT
BEGIN:STANDARD
TZOFFSETFROM:-0500
TZOFFSETTO:-0600
TZNAME:CST
DTSTART:20191103T070000
END:STANDARD
END:VTIMEZONE
BEGIN:VEVENT
DTSTART;VALUE=DATE:20191209
DTEND;VALUE=DATE:20191225
DTSTAMP:20260424T065300
CREATED:20191209T164838Z
LAST-MODIFIED:20191209T164838Z
UID:6638-1575853200-1577149199@esperanzacenter.org
SUMMARY:Holiday Tiendita
DESCRIPTION:Stop by the Esperanza and shop our holiday tiendita! \nWe’ll have rebozos from Natividad Sanchez and Camelia Ramos\, clay artwork by Irene Aguilar\, tapetes from Guadalupe Vasquez\, popotillo artwork\, table runners and other textiles from Guatemala and Mexico\, red clay art by Enedina Vasquez\, appliqué and patchwork from Hormigas Bordadoras de San Francisco Tanivet Oaxaca\, vintage artwork\, and some textile art by Pearl Sanchez! \nSHOP HOURS\nMonday-Friday: 10am-7pm\nSaturdays: Call for hours.
URL:https://esperanzacenter.org/event/holiday-tiendita-3/
LOCATION:Esperanza Peace and Justice Center\, 922 San Pedro Ave\, San Antonio\, TX\, 78212
CATEGORIES:Event
ATTACH;FMTTYPE=image/png:https://esperanzacenter.org/wp-content/uploads/2019/12/HolidayTiendita-Fbcover.png
END:VEVENT
END:VCALENDAR