BEGIN:VCALENDAR
VERSION:2.0
PRODID:-//Esperanza Peace and Justice Center - ECPv5.14.1//NONSGML v1.0//EN
CALSCALE:GREGORIAN
METHOD:PUBLISH
X-WR-CALNAME:Esperanza Peace and Justice Center
X-ORIGINAL-URL:https://esperanzacenter.org
X-WR-CALDESC:Events for Esperanza Peace and Justice Center
BEGIN:VTIMEZONE
TZID:America/Chicago
BEGIN:DAYLIGHT
TZOFFSETFROM:-0600
TZOFFSETTO:-0500
TZNAME:CDT
DTSTART:20190310T080000
END:DAYLIGHT
BEGIN:STANDARD
TZOFFSETFROM:-0500
TZOFFSETTO:-0600
TZNAME:CST
DTSTART:20191103T070000
END:STANDARD
END:VTIMEZONE
BEGIN:VEVENT
DTSTART;VALUE=DATE:20190202
DTEND;VALUE=DATE:20190217
DTSTAMP:20260425T103522
CREATED:20190115T000459Z
LAST-MODIFIED:20190212T071645Z
UID:5202-1549069200-1550278799@esperanzacenter.org
SUMMARY:Handmade Con Amor: MujerArtes Exhibit + Sale
DESCRIPTION:Join MujerArtes Cooperativa de Esperanza for an exhibit and sale – Handmade con Amor! \nCome find the perfect handmade gift for your loved ones. By purchasing something at MujerArtes\, you help support the women as artists and help support the program as a whole. \nFebruary 2 – 15\, 2019\nExhibit + Sale Hours:\n•   Monday – Friday | 9am-4pm\n•   Saturdays | 11am-3pm\n•   Sundays | Closed \n— \nAbout MujerArtes Cooperativa de Esperanza\nStarted in 1995 and operating out of a house in San Antonio’s Westside\, the MujerArtes Women’s Clay Cooperative has been among Esperanza’s groundbreaking programs for 24 years. \nMujerArtes draws hundreds of visitors to their exhibits and studio each year\, holding exhibits at their studio in the Westside\, Esperanza gallery and community venues including art fairs\, schools\, and libraries throughout the city year round. Annual exhibits include Peace Market\, Mother’s Day\, Día de la Virgen\, Día de los Muertos\, and others. \nAt the MujerArtes studio the women\, with the guidance of experienced ceramicists\, shape the clay into historic snapshots of their lives as workers\, heads of households and marginalized women in a country where they have always had to struggle. International artists/cooperatives Irene Aguilar\, Enedina Vasquez\, Taller Leñateros and Domitila Dominguez have been invited in the past for annual cultural exchanges. Through cooperative efforts\, the women create an environment where each woman is a teacher and student by way of their creativity and cultural experiences. \nFor 24 years\, the Esperanza Peace & Justice Center’s women’s clay cooperative has facilitated the cultural grounding of low-income women in San Antonio’s Westside through clay workshops 5 days a week and over 5 exhibits annually. We have witnessed the growth of women\, many of whom have never received formal artistic training\, resulting in a diverse group of talented and accomplished artists. \n  \n 
URL:https://esperanzacenter.org/event/handmade-con-amor-mujerartes-exhibit-sale/
LOCATION:MujerArtes Studio\, 816 S. Colorado St.\, San Antonio\, TX\, 78207\, United States
CATEGORIES:Event,Exhibit
ATTACH;FMTTYPE=image/png:https://esperanzacenter.org/wp-content/uploads/2019/01/MujerArtes-Feb-2019-Exhibit-Sale.png
END:VEVENT
END:VCALENDAR