BEGIN:VCALENDAR
VERSION:2.0
PRODID:-//Esperanza Peace and Justice Center - ECPv5.14.1//NONSGML v1.0//EN
CALSCALE:GREGORIAN
METHOD:PUBLISH
X-WR-CALNAME:Esperanza Peace and Justice Center
X-ORIGINAL-URL:https://esperanzacenter.org
X-WR-CALDESC:Events for Esperanza Peace and Justice Center
BEGIN:VTIMEZONE
TZID:America/Chicago
BEGIN:DAYLIGHT
TZOFFSETFROM:-0600
TZOFFSETTO:-0500
TZNAME:CDT
DTSTART:20230312T080000
END:DAYLIGHT
BEGIN:STANDARD
TZOFFSETFROM:-0500
TZOFFSETTO:-0600
TZNAME:CST
DTSTART:20231105T070000
END:STANDARD
END:VTIMEZONE
BEGIN:VEVENT
DTSTART;TZID=America/Chicago:20230527T200000
DTEND;TZID=America/Chicago:20230527T200000
DTSTAMP:20260421T005711
CREATED:20230505T123253Z
LAST-MODIFIED:20230527T003822Z
UID:10859-1685217600-1685217600@esperanzacenter.org
SUMMARY:Raíces Acústicas with Azul Barrientos & Michael Martin\, Saturday
DESCRIPTION:Join us for the Raíces Acústicas series with Azul Barrientos and guest Michael Martin on:  \nSaturday\, May 27\, at 8PM (doors open at 7:30PM)\, and Sunday\, May 28\, at 3PM (doors open at 2:30PM).\n        Seating is limited and only available on a first come\, first served basis.\n        Reserved seating is not available. Prices vary from $7 to $21.\n        Concessions will be available.\n        \nVisit esperanza.eventbrite.com to purchase your tickets today or at the door the day of.\n        \nMichael Martin is best known around these parts as frontman for the folk-rock band the Infidels\, which he formed in the mid-’80s and whose name was inspired by Dylan’s 1983 album “Infidels.” He’s also recorded and toured the world (and appeared on “Late Show With David Letterman”) with singer-songwriter Tom Russell. That gig lasted almost four years. Many admire him for his amazing talents as a pen and ink artist. Martin is planning a new solo record. For this one\, he’s decided to team up with Grammy-winning producer Joe Treviño at Blue Cat Studios\, a crossroads of the Tex-Mex scene.\n        Azul Barrientos is a musician dedicated to observing and conserving the cultural influences and interconnections between Latin America\, Africa\, Europe\, and Mexico. Born in Mexico City\, Azul was introduced to Latin America’s traditional and folkloric songs at an early age. This legacy drives her passion for reviving lost cultural traditions and sharing each song’s unique history. Azul moved to San Antonio as a young woman\, developing a reputation as a bridge-builder between Mexicana and Chicana cultures. She rejoices in her Latina roots\, giving new life to the rhythms and stories of previous generations.\n        For more information\, please call Esperanza at 210-228-0201
URL:https://esperanzacenter.org/event/voces-acusticas-2023-may/
CATEGORIES:Concert
END:VEVENT
END:VCALENDAR