BEGIN:VCALENDAR
VERSION:2.0
PRODID:-//Esperanza Peace and Justice Center - ECPv5.14.1//NONSGML v1.0//EN
CALSCALE:GREGORIAN
METHOD:PUBLISH
X-WR-CALNAME:Esperanza Peace and Justice Center
X-ORIGINAL-URL:https://esperanzacenter.org
X-WR-CALDESC:Events for Esperanza Peace and Justice Center
BEGIN:VTIMEZONE
TZID:UTC
BEGIN:STANDARD
TZOFFSETFROM:+0000
TZOFFSETTO:+0000
TZNAME:UTC
DTSTART:20160101T000000
END:STANDARD
END:VTIMEZONE
BEGIN:VEVENT
DTSTART;TZID=UTC:20160709T190000
DTEND;TZID=UTC:20160709T210000
DTSTAMP:20260421T131028
CREATED:20160705T084436Z
LAST-MODIFIED:20180525T193536Z
UID:1050-1468090800-1468098000@esperanzacenter.org
SUMMARY:Transvisible: The Bamby Salcedo Story Film Screening
DESCRIPTION:Join the Esperanza Peace and Justice Center for a screening of the documentary\, “Transvisible: The Bamby Salcedo Story.” Following the screening will be a plática with special guest Bamby Salcedo along with local transactivists Antonia Padilla\, Eric LaRue\, and Lauryn Farris as moderator. \nTransvisible\, a documentary film by Dante Alencastre\, is about Bamby Salcedo\, a transLatina activist from Guadalajara\, Mexico. The film portrays her struggles with the racism\, sexism\, homophobia\, transphobia and misogyny faced by the LGBTQ+ community. Bamby is the founder and president of the TransLatin@ Coalition located in East Los Angeles. Bamby’s efforts center on creating an intersectional community focused on Latinxs\, immigrants\, HIV positive people\, youth and the LGBTQ+ community. Turning her daunting personal challenges and barriers into the very basis of her activism\, the film follows her unlikely and transcendent rise into becoming the effective social advocate and role model that she is today. Her work is shown giving voice and visibility to not only the Transgender community\, but also to the multiple\, overlapping communities her life has touched. \nThe event is co-sponsored by LULAC 22198 “Orgullo de San Antonio” and the Transgender Education Network of Texas.
URL:https://esperanzacenter.org/event/transvisible-the-bamby-salcedo-story-film-screening/
LOCATION:Esperanza Peace and Justice Center\, 922 San Pedro Ave\, San Antonio\, TX\, 78212
ATTACH;FMTTYPE=image/jpeg:https://esperanzacenter.org/wp-content/uploads/2016/07/Transvisible.jpg
END:VEVENT
END:VCALENDAR