BEGIN:VCALENDAR
VERSION:2.0
PRODID:-//Esperanza Peace and Justice Center - ECPv5.14.1//NONSGML v1.0//EN
CALSCALE:GREGORIAN
METHOD:PUBLISH
X-WR-CALNAME:Esperanza Peace and Justice Center
X-ORIGINAL-URL:https://esperanzacenter.org
X-WR-CALDESC:Events for Esperanza Peace and Justice Center
BEGIN:VTIMEZONE
TZID:America/Chicago
BEGIN:DAYLIGHT
TZOFFSETFROM:-0600
TZOFFSETTO:-0500
TZNAME:CDT
DTSTART:20220313T080000
END:DAYLIGHT
BEGIN:STANDARD
TZOFFSETFROM:-0500
TZOFFSETTO:-0600
TZNAME:CST
DTSTART:20221106T070000
END:STANDARD
END:VTIMEZONE
BEGIN:VEVENT
DTSTART;TZID=America/Chicago:20220409T090000
DTEND;TZID=America/Chicago:20220409T193000
DTSTAMP:20260421T164809
CREATED:20220322T183710Z
LAST-MODIFIED:20220405T065450Z
UID:10112-1649494800-1649532600@esperanzacenter.org
SUMMARY:Westside San Antonio: Taking It Public Conference – Day 2 @ Esperanza
DESCRIPTION:This conference is a collaboration between St. Mary’s University’s Public History Graduate Program and the Esperanza Peace and Justice Center. St. Mary’s prepares students to research and disseminate history about the Westside while Esperanza’s grass-roots activism is committed to community-based historical research and preservation. Our goal is for students\, grass-roots community members\, and scholars to learn from each other and encourage continuing collaboration in the interest of public history and historic preservation. \nToday’s event is to be held at the Esperanza Peace & Justice Center. 922 San Pedro Ave. Lunch will be provided.\n\nFor the schedule of the event\, please visit bit.ly/WSA-2022\nFor more information\, please call the Esperanza Peace & Justice Center @ 210-228-0201\nThe conference is funded by St. Mary’s University’s O’Connor Chair for the History of Hispanic Texas and the Southwest\, an endowment gift of the Thomas M. O’Connor Family of Victoria\, Texas.
URL:https://esperanzacenter.org/event/taking-it-public-conference-day-2/
LOCATION:Esperanza Peace and Justice Center\, 922 San Pedro Ave\, San Antonio\, TX\, 78212
END:VEVENT
END:VCALENDAR