BEGIN:VCALENDAR
VERSION:2.0
PRODID:-//Esperanza Peace and Justice Center - ECPv5.14.1//NONSGML v1.0//EN
CALSCALE:GREGORIAN
METHOD:PUBLISH
X-WR-CALNAME:Esperanza Peace and Justice Center
X-ORIGINAL-URL:https://esperanzacenter.org
X-WR-CALDESC:Events for Esperanza Peace and Justice Center
BEGIN:VTIMEZONE
TZID:America/Chicago
BEGIN:DAYLIGHT
TZOFFSETFROM:-0600
TZOFFSETTO:-0500
TZNAME:CDT
DTSTART:20250309T080000
END:DAYLIGHT
BEGIN:STANDARD
TZOFFSETFROM:-0500
TZOFFSETTO:-0600
TZNAME:CST
DTSTART:20251102T070000
END:STANDARD
END:VTIMEZONE
BEGIN:VEVENT
DTSTART;TZID=America/Chicago:20250208T100000
DTEND;TZID=America/Chicago:20250208T120000
DTSTAMP:20260423T025221
CREATED:20250207T220552Z
LAST-MODIFIED:20250207T220552Z
UID:12587-1739008800-1739016000@esperanzacenter.org
SUMMARY:Second Saturday Convivio @ Rinconcito
DESCRIPTION:Join us on February 8\, 2025 for our Second Saturday Convivio!  \nShare your Westside memories & learn how to contribute to San Antonio’s 1st Mexican-American museum\, Museo del Westside. \nBring your favorite dish or treat to share for our potluck style Breakfast. Light refreshments will be provided.
URL:https://esperanzacenter.org/event/second-saturday-convivio-rinconcito-2/
LOCATION:Rinconcito de Esperanza\, 816 S Colorado (@ Guadalupe St)\, San Antonio\, TX\, 78207
ATTACH;FMTTYPE=image/jpeg:https://esperanzacenter.org/wp-content/uploads/2025/02/Second-Saturday-Event-25-02_01-scaled.jpg
END:VEVENT
END:VCALENDAR