BEGIN:VCALENDAR
VERSION:2.0
PRODID:-//Esperanza Peace and Justice Center - ECPv5.14.1//NONSGML v1.0//EN
CALSCALE:GREGORIAN
METHOD:PUBLISH
X-WR-CALNAME:Esperanza Peace and Justice Center
X-ORIGINAL-URL:https://esperanzacenter.org
X-WR-CALDESC:Events for Esperanza Peace and Justice Center
BEGIN:VTIMEZONE
TZID:America/Chicago
BEGIN:DAYLIGHT
TZOFFSETFROM:-0600
TZOFFSETTO:-0500
TZNAME:CDT
DTSTART:20220313T080000
END:DAYLIGHT
BEGIN:STANDARD
TZOFFSETFROM:-0500
TZOFFSETTO:-0600
TZNAME:CST
DTSTART:20221106T070000
END:STANDARD
END:VTIMEZONE
BEGIN:VEVENT
DTSTART;TZID=America/Chicago:20220421T183000
DTEND;TZID=America/Chicago:20220421T183000
DTSTAMP:20260421T182423
CREATED:20220413T200844Z
LAST-MODIFIED:20220419T064901Z
UID:10175-1650565800-1650565800@esperanzacenter.org
SUMMARY:Resisting Erasure: Women Making Art Plática @ Esperanza
DESCRIPTION:For women in the arts\, access to resources\, including exhibition and performance opportunities and funding\, too often come with strings attached intended to restrict and silence their voices.\n\nJoin us for a wide-ranging discussion on Thursday\, April 21\, 2022\, at 6:30 PM at the Esperanza Peace and Justice Center.\n\nIn Resisting Erasure\, six women – artists\, curators and cultural leaders – will come together to share their experiences of the overt and subtle ways that individuals\, institutions and institutional racism\, sexism and homo/transphobia repress their work — and how they continue to struggle against oppressive tactics and efforts to silence and censor women’s voices. The discussion will be followed by an audience Q&A.\n\nThe panel is moderated by Kathy Armstrong\, independent arts leader\, and includes Graciela Sánchez\, Executive Director of the Esperanza Peace and Justice Center\, artist and curator Suzy Gonzalez\, and San Antonio-based visual artists Jennifer Ling Datchuk and Sarah Fox\, and Norma Cantu\, professor at Trinity University.\n\nThis event is free and open to the public\, presented through the support of Sarah E. Harte in partnership with the Esperanza Peace and Justice Center.  Parking for this event will be available at San Antonio College parking lots 27 & 28 and at the Planned Parenthood parking lot at 920 San Pedro.\n\nPlease register at: resistingerasure.eventbrite.com
URL:https://esperanzacenter.org/event/resisting-erasure-platica/
LOCATION:Esperanza Peace and Justice Center\, 922 San Pedro Ave\, San Antonio\, TX\, 78212
CATEGORIES:Platica
END:VEVENT
END:VCALENDAR