BEGIN:VCALENDAR
VERSION:2.0
PRODID:-//Esperanza Peace and Justice Center - ECPv5.14.1//NONSGML v1.0//EN
CALSCALE:GREGORIAN
METHOD:PUBLISH
X-WR-CALNAME:Esperanza Peace and Justice Center
X-ORIGINAL-URL:https://esperanzacenter.org
X-WR-CALDESC:Events for Esperanza Peace and Justice Center
BEGIN:VTIMEZONE
TZID:America/Chicago
BEGIN:DAYLIGHT
TZOFFSETFROM:-0600
TZOFFSETTO:-0500
TZNAME:CDT
DTSTART:20210314T080000
END:DAYLIGHT
BEGIN:STANDARD
TZOFFSETFROM:-0500
TZOFFSETTO:-0600
TZNAME:CST
DTSTART:20211107T070000
END:STANDARD
END:VTIMEZONE
BEGIN:VEVENT
DTSTART;TZID=America/Chicago:20211023T190000
DTEND;TZID=America/Chicago:20211023T210000
DTSTAMP:20260425T220008
CREATED:20211022T172735Z
LAST-MODIFIED:20211022T173915Z
UID:9719-1635015600-1635022800@esperanzacenter.org
SUMMARY:RAZA COSMICA: A Constellation of Classic & Contemporary Latinx Science Fiction Film Screening
DESCRIPTION:MonteVideo and Presa House Gallery are excited to announce the official film lineup for Raza Cósmica: A constellation of classic and contemporary Latinx science fiction. Join us for an inaugural MonteVideo screening that will take place on October 23\, 2021 spotlighting 10 standout films and 12 celebrated filmmakers\, including San Antonio natives Miguel Alvarez and Grace Goen. \nSleep Dealer\nDirected by Alex Rivera\, 90 mins\nMemo Cruz is a young man in near-future Mexico. When his family is victim of a misguided drone attack\, he finds himself with no option but to head north\, towards the U.S./Mexico border. Memo’s search for a better future leads him to love\, loss\, and a confrontation with a\nmysterious figure from his past. \nPreceded by:\nThe Satellite Space Center of Colombia (Centro especial satelital de Colombia)\nDirected by La Decanatura (Calderón & Piñeros)\, 10 min\nA school orchestra is taken by surprise when they stumble upon a telecommunication antenna that was abandoned in the Colombian tropics—a symbol of failed progress. Now\, it has become an archaeological relic of the future. \nBlankets\, lawn chairs\, snacks\, picnics\, and pets are welcome. Free parking on site. \nAbout MonteVideo\nMonteVideo was created to support Latinx-themed independent film screenings for underserved San Antonio communities via non-traditional venues. MonteVideo is supported by the National Association of Latino Arts and Cultures\, Southwest Airlines\, the City of San Antonio Department of Arts & Culture through a grant from the NALAC Fund for the Arts Grant Program\, and the Luminaria Artist Foundation.
URL:https://esperanzacenter.org/event/raza-cosmica/
LOCATION:Cassiano Park\, 1728 Potosi St.\, TX\, 78207\, United States
ATTACH;FMTTYPE=image/jpeg:https://esperanzacenter.org/wp-content/uploads/2021/10/raza.jpg
END:VEVENT
END:VCALENDAR