BEGIN:VCALENDAR
VERSION:2.0
PRODID:-//Esperanza Peace and Justice Center - ECPv5.14.1//NONSGML v1.0//EN
CALSCALE:GREGORIAN
METHOD:PUBLISH
X-WR-CALNAME:Esperanza Peace and Justice Center
X-ORIGINAL-URL:https://esperanzacenter.org
X-WR-CALDESC:Events for Esperanza Peace and Justice Center
BEGIN:VTIMEZONE
TZID:America/Chicago
BEGIN:DAYLIGHT
TZOFFSETFROM:-0600
TZOFFSETTO:-0500
TZNAME:CDT
DTSTART:20230312T080000
END:DAYLIGHT
BEGIN:STANDARD
TZOFFSETFROM:-0500
TZOFFSETTO:-0600
TZNAME:CST
DTSTART:20231105T070000
END:STANDARD
END:VTIMEZONE
BEGIN:VEVENT
DTSTART;TZID=America/Chicago:20230603T160000
DTEND;TZID=America/Chicago:20230603T213000
DTSTAMP:20260421T040421
CREATED:20230530T210116Z
LAST-MODIFIED:20230602T182438Z
UID:10890-1685808000-1685827800@esperanzacenter.org
SUMMARY:Queer Voices: A Queer & Trans Joy Pachanga!
DESCRIPTION:Queer Voices\, a Pride Center San Antonio program and in collaboration with the Esperanza Peace and Justice Center\, present a night of entertainment\, food\, and drink. Festivities include:\n– Blessings by Cuir Curanderes\n– A mini mercadito by Very That\n– Featuring DJ De La O\n– Poetry & Music\n– Burlesque & Drag\n– Food & Drinks will be available\nHosted by Anel Flores & Chibbi. $5 suggested donation. No one turned away! Registration required. The Esperanza Peace and Justice Center\, 922 San Pedro Avenue 78212\nParking for this event will be available at San Antonio College parking lot #28. \n– – – \nTo purchase tickets go to: bit.ly/queervoices2023
URL:https://esperanzacenter.org/event/queer-voices-a-queer-trans-joy-pachanga/
LOCATION:Esperanza Peace and Justice Center\, 922 San Pedro Ave\, San Antonio\, TX\, 78212
END:VEVENT
END:VCALENDAR