BEGIN:VCALENDAR
VERSION:2.0
PRODID:-//Esperanza Peace and Justice Center - ECPv5.14.1//NONSGML v1.0//EN
CALSCALE:GREGORIAN
METHOD:PUBLISH
X-WR-CALNAME:Esperanza Peace and Justice Center
X-ORIGINAL-URL:https://esperanzacenter.org
X-WR-CALDESC:Events for Esperanza Peace and Justice Center
BEGIN:VTIMEZONE
TZID:America/Chicago
BEGIN:DAYLIGHT
TZOFFSETFROM:-0600
TZOFFSETTO:-0500
TZNAME:CDT
DTSTART:20190310T080000
END:DAYLIGHT
BEGIN:STANDARD
TZOFFSETFROM:-0500
TZOFFSETTO:-0600
TZNAME:CST
DTSTART:20191103T070000
END:STANDARD
END:VTIMEZONE
BEGIN:VEVENT
DTSTART;TZID=America/Chicago:20190426T173000
DTEND;TZID=America/Chicago:20190426T200000
DTSTAMP:20260421T084722
CREATED:20190402T161446Z
LAST-MODIFIED:20190402T161516Z
UID:5453-1556299800-1556308800@esperanzacenter.org
SUMMARY:Prevention Loteria
DESCRIPTION:Join the Rape Crisis Center at the Esperanza Center for fun rounds of loteria with a prevention education twist! The event will feature super awesome prizes after each round\, food and drink\, and a live DJ! This event is family-friendly and free to attend. \n$5 a board to play.
URL:https://esperanzacenter.org/event/prevention-loteria/
LOCATION:Esperanza Peace and Justice Center\, 922 San Pedro Ave\, San Antonio\, TX\, 78212
CATEGORIES:Fundraising Event
ATTACH;FMTTYPE=image/png:https://esperanzacenter.org/wp-content/uploads/2019/04/prevention-loteria-.png
END:VEVENT
END:VCALENDAR