BEGIN:VCALENDAR
VERSION:2.0
PRODID:-//Esperanza Peace and Justice Center - ECPv5.14.1//NONSGML v1.0//EN
CALSCALE:GREGORIAN
METHOD:PUBLISH
X-WR-CALNAME:Esperanza Peace and Justice Center
X-ORIGINAL-URL:https://esperanzacenter.org
X-WR-CALDESC:Events for Esperanza Peace and Justice Center
BEGIN:VTIMEZONE
TZID:America/Chicago
BEGIN:DAYLIGHT
TZOFFSETFROM:-0600
TZOFFSETTO:-0500
TZNAME:CDT
DTSTART:20230312T080000
END:DAYLIGHT
BEGIN:STANDARD
TZOFFSETFROM:-0500
TZOFFSETTO:-0600
TZNAME:CST
DTSTART:20231105T070000
END:STANDARD
END:VTIMEZONE
BEGIN:VEVENT
DTSTART;TZID=America/Chicago:20230506T090000
DTEND;TZID=America/Chicago:20230506T150000
DTSTAMP:20260420T232743
CREATED:20230328T075948Z
LAST-MODIFIED:20230505T122103Z
UID:10809-1683363600-1683385200@esperanzacenter.org
SUMMARY:Paseo Por El Westside 2023 @ Rinconcito
DESCRIPTION:Paseo por El Westside\nWe invite you to our 14th Annual Paseo por El Westside\, a cultural and historic preservation community gathering on the Westside of San Antonio. The Paseo por El Westside will take place on Saturday\, May 6\, 2023\, at Rinconcito de Esperanza (816 S. Colorado St.) from 9am to 3pm.  The event is FREE and open to the public. \nCelebrate San Antonio’s Westside history\, culture and people with the Paseo or El Westside. \nAs part of National Historic Preservation Month\, Paseo por El Westside offers Westside and San Antonio residents and visitors alike\, walking tours of the historic westside\, a neighborhood that has always been portrayed as the “bad side of town\,” and shares the history through its architecture\, culture\, sacred spaces\, and political struggles such as the struggle against the destruction of our casitas and the displacement of our gente. \nAdditionally\, the Paseo por El Westside festival includes musical performances\, Mexican children’s games and songs\, historic films of the Westside\, art vendors\, workshops on kite and piñata making\, identifying pan dulce by name\, dichos and adivinanzas and the ever popular chile workshops y más!. This year\, attendees will get a sneak peak of the Museo del Westside which is still under construction. \nJoin us at Paseo to celebrate\, preserve and honor the places\, history and the tangible and intangible cultura of San Antonio’s historic Westside. Paseo promises to be a fun-filled educational community-led event for all ages. Recover cultural memory\, see the beauty and surviving architecture\, and help us preserve what remains in the historic Westside by joining us in play\, storytelling\, and practice of traditions at the 14th Annual Paseo por El Westside. \nThis event is intergenerational at the core with activities for all ages. The event will also include fotobanner tours through the Westside\, workshops\, demos\, food\, live music and poetry readings. \nAdmission is free and the event is family friendly and open to the public. The whole family is invited whether they were born and raised in the Westside or simply enjoy cultural festivities honoring San Antonio’s heritage.
URL:https://esperanzacenter.org/event/paseo-por-el-westside-2023/
LOCATION:Rinconcito de Esperanza\, 816 S Colorado (@ Guadalupe St)\, San Antonio\, TX\, 78207
CATEGORIES:Festival
ATTACH;FMTTYPE=image/jpeg:https://esperanzacenter.org/wp-content/uploads/2023/03/Paseo-2023-artwork.jpg
END:VEVENT
END:VCALENDAR