BEGIN:VCALENDAR
VERSION:2.0
PRODID:-//Esperanza Peace and Justice Center - ECPv5.14.1//NONSGML v1.0//EN
CALSCALE:GREGORIAN
METHOD:PUBLISH
X-WR-CALNAME:Esperanza Peace and Justice Center
X-ORIGINAL-URL:https://esperanzacenter.org
X-WR-CALDESC:Events for Esperanza Peace and Justice Center
BEGIN:VTIMEZONE
TZID:America/Chicago
BEGIN:DAYLIGHT
TZOFFSETFROM:-0600
TZOFFSETTO:-0500
TZNAME:CDT
DTSTART:20190310T080000
END:DAYLIGHT
BEGIN:STANDARD
TZOFFSETFROM:-0500
TZOFFSETTO:-0600
TZNAME:CST
DTSTART:20191103T070000
END:STANDARD
END:VTIMEZONE
BEGIN:VEVENT
DTSTART;TZID=America/Chicago:20191026T100000
DTEND;TZID=America/Chicago:20191026T113000
DTSTAMP:20260421T085217
CREATED:20191015T201542Z
LAST-MODIFIED:20191025T075316Z
UID:6372-1572084000-1572089400@esperanzacenter.org
SUMMARY:Papel Picado Workshop (Día de los Muertos)
DESCRIPTION:Join the Esperanza Peace & Justice Center for a workshop on PAPEL PICADO with Angie Merla! \nIn preparation for our Día de los Muertos Celebration con Esperanza that will be on Friday\, November 1\, we are hosting a series of Day of the Dead workshops on Saturday\, October 26. \nCome learn about papel picado\, how to make your own pattern\, and more! Create a papel picado garland for your altar and Día de los Muertos celebration. \nADMISSION\n$5-10 Sliding Scale for adults.\n$3 for children. Coming as a larger family? Pay our Family Rate – $15-20 sliding scale. This helps us purchase materials for the workshops! \nHave questions? Call us at 210.228.0201! \n————\n¡Venga a Esperanza para un taller sobre PAPEL PICADO con Angie Merla! \nEn preparación para nuestra celebración del Día de los Muertos Celebration con Esperanza que será el viernes 1 de noviembre\, estamos organizando una serie de talleres del Día de Muertos el sábado 26 de octubre. \n¡Ven a aprender sobre papel picado\, cómo hacer tu propio patrón y más! Crea una guirnalda de papel picado para tu altar y la celebración del Día de los Muertos. \nADMISIÓN\nEscala móvil de $5-10 para adultos.\n$3 para niñ@s. ¿Vienes como una familia más grande? Pague nuestra – $15-20 escala móvil. ¡Esto nos ayuda a comprar materiales para los talleres! \n¿Tiene preguntas? Llamenos al 210.228.0201.
URL:https://esperanzacenter.org/event/papel-picado-workshop-for-dia-de-los-muertos-con-esperanza-2/
LOCATION:Esperanza Peace and Justice Center\, 922 San Pedro Ave\, San Antonio\, TX\, 78212
CATEGORIES:Workshop
ATTACH;FMTTYPE=image/jpeg:https://esperanzacenter.org/wp-content/uploads/2019/10/PapelPicadoWorkshop-Oct26.jpg
END:VEVENT
END:VCALENDAR