BEGIN:VCALENDAR
VERSION:2.0
PRODID:-//Esperanza Peace and Justice Center - ECPv5.14.1//NONSGML v1.0//EN
CALSCALE:GREGORIAN
METHOD:PUBLISH
X-WR-CALNAME:Esperanza Peace and Justice Center
X-ORIGINAL-URL:https://esperanzacenter.org
X-WR-CALDESC:Events for Esperanza Peace and Justice Center
BEGIN:VTIMEZONE

END:VTIMEZONE
BEGIN:VEVENT
DTSTART;TZID=America/Chicago:20260421T101021
DTEND;TZID=America/Chicago:20260421T101021
DTSTAMP:20260421T101021
CREATED:20151015T132629Z
LAST-MODIFIED:20151015T132629Z
UID:128-0-0@esperanzacenter.org
SUMMARY:Nuestra Historia #2
DESCRIPTION:
URL:https://esperanzacenter.org/event/nuestra-historia-2-4/
CATEGORIES:WS - Community
END:VEVENT
END:VCALENDAR