BEGIN:VCALENDAR
VERSION:2.0
PRODID:-//Esperanza Peace and Justice Center - ECPv5.14.1//NONSGML v1.0//EN
CALSCALE:GREGORIAN
METHOD:PUBLISH
X-WR-CALNAME:Esperanza Peace and Justice Center
X-ORIGINAL-URL:https://esperanzacenter.org
X-WR-CALDESC:Events for Esperanza Peace and Justice Center
BEGIN:VTIMEZONE
TZID:America/Chicago
BEGIN:DAYLIGHT
TZOFFSETFROM:-0600
TZOFFSETTO:-0500
TZNAME:CDT
DTSTART:20180311T080000
END:DAYLIGHT
BEGIN:STANDARD
TZOFFSETFROM:-0500
TZOFFSETTO:-0600
TZNAME:CST
DTSTART:20181104T070000
END:STANDARD
END:VTIMEZONE
BEGIN:VEVENT
DTSTART;TZID=America/Chicago:20180518T180000
DTEND;TZID=America/Chicago:20180518T214500
DTSTAMP:20260421T053246
CREATED:20180501T224941Z
LAST-MODIFIED:20180515T233924Z
UID:4248-1526666400-1526679900@esperanzacenter.org
SUMMARY:Noche de Cultura | Celebrating the 2018 El Mundo Zurdo Conference
DESCRIPTION:Join the Esperanza Peace and Justice Center for the Noche de Cultura on Friday\, May 18 starting at 6pm! We are hosting this night as a celebration of the upcoming El Mundo Zurdo Conference. Event is free and open to the public\, donations accepted. \nEvery 18 months\, the Society for the Study of Gloria Anzaldúa hosts a conference that provides a place for scholars\, students\, and community to come together with the intention of engaging in the continued study of intellectual and spiritual work of Chicana feminist Gloria Evangelina Anzaldúa. \nCome enjoy a night of poetry\, music\, readings\, dancing y más at the Esperanza Peace & Justice Center! \nFood concessions will be available for purchase. Free parking is available at San Antonio College in lots 21\, 28\, and 29. \nPERFORMANCE LINE-UP\nItzel Corona\nItzel Garcia\nVictoria Garcia-Zapata\nKamala Platt\nRachel Jennings\nBonnie Cisneros\nMaya Quetzalli Tejeda\nNatasha Hernandez\nAndrea “Vocab” Sanderson\nire’na lara silva\nMarisela Barrera\nBárbara Renaud González (accompanied by Azul Barrientos) \nAre you on Facebook? JOIN + SHARE the event!
URL:https://esperanzacenter.org/event/noche-de-cultura-celebrating-el-mundo-zurdo-conference/
LOCATION:Esperanza Peace and Justice Center\, 922 San Pedro Ave\, San Antonio\, TX\, 78212
CATEGORIES:Exhibit,Exhibit Opening,Performance,Reading
ATTACH;FMTTYPE=image/jpeg:https://esperanzacenter.org/wp-content/uploads/2018/05/Facebook-eventcover-UPDATED.jpg
END:VEVENT
END:VCALENDAR