BEGIN:VCALENDAR
VERSION:2.0
PRODID:-//Esperanza Peace and Justice Center - ECPv5.14.1//NONSGML v1.0//EN
CALSCALE:GREGORIAN
METHOD:PUBLISH
X-WR-CALNAME:Esperanza Peace and Justice Center
X-ORIGINAL-URL:https://esperanzacenter.org
X-WR-CALDESC:Events for Esperanza Peace and Justice Center
BEGIN:VTIMEZONE
TZID:America/Chicago
BEGIN:DAYLIGHT
TZOFFSETFROM:-0600
TZOFFSETTO:-0500
TZNAME:CDT
DTSTART:20160313T080000
END:DAYLIGHT
BEGIN:STANDARD
TZOFFSETFROM:-0500
TZOFFSETTO:-0600
TZNAME:CST
DTSTART:20161106T070000
END:STANDARD
END:VTIMEZONE
BEGIN:VEVENT
DTSTART;TZID=America/Chicago:20160910T200000
DTEND;TZID=America/Chicago:20160910T220000
DTSTAMP:20260421T130452
CREATED:20160722T022247Z
LAST-MODIFIED:20180525T195703Z
UID:1308-1473537600-1473544800@esperanzacenter.org
SUMMARY:Noche Azul Presents: Solamente una Vez (2/3)
DESCRIPTION:As part of Esperanza Peace and Justice Center’s monthly Noche Azul concert series\, Azul will be having a bolero weekend from September 9-11\, 2016. So you’ll have three opportunities to catch our monthly Noche Azul concert. Unlike our usual monthly concerts\, this bolero weekend will have an intimate cabaret style setting where guests can enjoy the concert at their own table. \nLimited seating will be available and tickets will be sold ahead of time. \nDoors open at 7:15 PM. Ticket price TBA. Concessions will be available.\nYou have three nights to catch this cabaret style event on Friday\, September 9; Saturday\, September 10; and on Sunday\, September 11.\nTickets will be $15 pre-sale and $20 at the door. Tickets are now available!\nTo purchase tickets you can come stop by the Esperanza (922 San Pedro Ave.) Monday-Friday\, 10 am- 7 pm or call (210) 228-0201.
URL:https://esperanzacenter.org/event/noche-azul-presents-solamente-una-vez-23/
LOCATION:Esperanza Peace and Justice Center\, 922 San Pedro Ave\, San Antonio\, TX\, 78212
CATEGORIES:Concert
ATTACH;FMTTYPE=image/jpeg:https://esperanzacenter.org/wp-content/uploads/2016/07/solamenteunavez_small.jpg
END:VEVENT
END:VCALENDAR