BEGIN:VCALENDAR
VERSION:2.0
PRODID:-//Esperanza Peace and Justice Center - ECPv5.14.1//NONSGML v1.0//EN
CALSCALE:GREGORIAN
METHOD:PUBLISH
X-WR-CALNAME:Esperanza Peace and Justice Center
X-ORIGINAL-URL:https://esperanzacenter.org
X-WR-CALDESC:Events for Esperanza Peace and Justice Center
BEGIN:VTIMEZONE
TZID:America/Chicago
BEGIN:DAYLIGHT
TZOFFSETFROM:-0600
TZOFFSETTO:-0500
TZNAME:CDT
DTSTART:20170312T080000
END:DAYLIGHT
BEGIN:STANDARD
TZOFFSETFROM:-0500
TZOFFSETTO:-0600
TZNAME:CST
DTSTART:20171105T070000
END:STANDARD
END:VTIMEZONE
BEGIN:VEVENT
DTSTART;TZID=America/Chicago:20171021T200000
DTEND;TZID=America/Chicago:20171021T223000
DTSTAMP:20260421T120522
CREATED:20171018T023054Z
LAST-MODIFIED:20180525T193026Z
UID:3207-1508616000-1508625000@esperanzacenter.org
SUMMARY:Noche Azul: El Regreso a la Raiz
DESCRIPTION:Join us Saturday\, October 21 at 8 PM for our monthly Noche Azul concert where Azul will return to her roots as a solo performance artist. She will perform different songs with a variety of instruments\, ranging from genres such as Traditional World Music to urban modern alternative music. Azul will also be performing orignal songs! \nTake a sneak peek into Azul’s musical soul for a moment where you’ll find different influences\, songs\, thoughts\, and concepts that mingle together pieced only by her imagination and love. \nDoors open at 7:30 PM. Tickets are $7 at the door\, but any more donations are appreciated. Seating is first-come first-served. Concessions will be available for purchase. \nParking is available at San Antonio College in lots 21\, 28\, 29. \nAbout Noche Azul\nFeaturing a new theme and musical lineup each month\, Noche Azul showcases traditional Mexican songs while highlighting the cultural influences and interconnections between Latin America\, Spain and Mexico through multi-media story telling and song. The songs and genres of Noche Azul have included boleros\, rancheras\, folk music\, jazz as well as electronic music.
URL:https://esperanzacenter.org/event/noche-azul-el-regreso-a-la-raiz/
LOCATION:Esperanza Peace and Justice Center\, 922 San Pedro Ave\, San Antonio\, TX\, 78212
CATEGORIES:Concert
ATTACH;FMTTYPE=image/jpeg:https://esperanzacenter.org/wp-content/uploads/2017/10/noche-azul-FB-banner.jpg
END:VEVENT
END:VCALENDAR