BEGIN:VCALENDAR
VERSION:2.0
PRODID:-//Esperanza Peace and Justice Center - ECPv5.14.1//NONSGML v1.0//EN
CALSCALE:GREGORIAN
METHOD:PUBLISH
X-WR-CALNAME:Esperanza Peace and Justice Center
X-ORIGINAL-URL:https://esperanzacenter.org
X-WR-CALDESC:Events for Esperanza Peace and Justice Center
BEGIN:VTIMEZONE
TZID:America/Chicago
BEGIN:DAYLIGHT
TZOFFSETFROM:-0600
TZOFFSETTO:-0500
TZNAME:CDT
DTSTART:20200308T080000
END:DAYLIGHT
BEGIN:STANDARD
TZOFFSETFROM:-0500
TZOFFSETTO:-0600
TZNAME:CST
DTSTART:20201101T070000
END:STANDARD
END:VTIMEZONE
BEGIN:VEVENT
DTSTART;TZID=America/Chicago:20200516T200000
DTEND;TZID=America/Chicago:20200516T200000
DTSTAMP:20260421T060825
CREATED:20200502T014219Z
LAST-MODIFIED:20200524T224434Z
UID:7135-1589659200-1589659200@esperanzacenter.org
SUMMARY:Stay-At-Home Noche Azul Concert - Live Streaming
DESCRIPTION:Join us on Saturday\, May 16\, 2020\, at 8:00 PM CST.\nThis month’s Noche Azul concert will be streamed live via Facebook and Youtube out of an abundance of caution and deep commitment to our beloved community’s well-being! \nView the concert via Facebook @\nwww.facebook.com/azulbarrientosmusic\nwww.facebook.com/esperanzacenter \nView the concert via YouTube @\nwww.youtube.com/azulmusicachannel\nwww.youtube.com/esperanzacenter \nPlease tune in to the concert! Azul is going to make the concert interactive! So leave comments\, like and share the performance\, and ask and answer questions. \nThis concert is presented to you by the Esperanza Peace and Justice Center. This program and these artists are funded largely by generous donations from the community! Please support these artists by sending in your donations through our Paypal or Venmo! \nDonate via Paypal at www.esperanzacenter.org/donate \nDonate via Venmo at www.venmo.com/esperanzacenter or search @esperanzacenter in your Venmo app \nCall 210-228-0201 or email esperanza@esperanzacenter.org for questions.
URL:https://esperanzacenter.org/event/noche-azul-concert-may-2020/
LOCATION:ONLINE
CATEGORIES:Concert
END:VEVENT
END:VCALENDAR