BEGIN:VCALENDAR
VERSION:2.0
PRODID:-//Esperanza Peace and Justice Center - ECPv5.14.1//NONSGML v1.0//EN
CALSCALE:GREGORIAN
METHOD:PUBLISH
X-WR-CALNAME:Esperanza Peace and Justice Center
X-ORIGINAL-URL:https://esperanzacenter.org
X-WR-CALDESC:Events for Esperanza Peace and Justice Center
BEGIN:VTIMEZONE
TZID:America/Chicago
BEGIN:DAYLIGHT
TZOFFSETFROM:-0600
TZOFFSETTO:-0500
TZNAME:CDT
DTSTART:20160313T080000
END:DAYLIGHT
BEGIN:STANDARD
TZOFFSETFROM:-0500
TZOFFSETTO:-0600
TZNAME:CST
DTSTART:20161106T070000
END:STANDARD
END:VTIMEZONE
BEGIN:VEVENT
DTSTART;TZID=America/Chicago:20160916T170000
DTEND;TZID=America/Chicago:20161015T170000
DTSTAMP:20260421T143749
CREATED:20160724T012805Z
LAST-MODIFIED:20160824T215202Z
UID:1310-1474045200-1476550800@esperanzacenter.org
SUMMARY:Fiestas Patrias de Mujer Artes | Exhibit + Art Sale
DESCRIPTION:Come celebrate Diez y Seis with the women of MujerArtes! Join us for the opening of their Fiestas Patrias de Mujer Artes exhibit and art sale on Sept. 16 from 5 PM-8PM at the Casa de MujerArtes (1412 El Paso).\nThe artwork can be seen through Oct. 15\, Monday through Friday from 9:30 AM-5 PM. \nThe women draw on Mexican and Mexican-American culture and depict familiar themes and scenes in various clay artworks.\nThe women have also been creating tiles that will go into their new adobe studio that we are building at the Rinconcito de Esperanza (816 S. Colorado). \nAbout MujerArtes\nThe Cooperativa MujerArtes\, located on the Westside\, is a 21 year-old project sponsored by the Esperanza Peace and Justice Center. It has been teaching low income Latinas the art of working and creating with clay. A “lost” art in the United States of America\, clay work is very much tied to everyday life as well as the universal circle of life. MujerArtes incorporates the cultura of the women in art in order to preserve and tell their stories and historia. \nFor more information on the exhibit and sale contact Cooperativa MujerArtes at 210.223.2585 or at the Esperanza Peace and Justice Center at 210.228.0201.
URL:https://esperanzacenter.org/event/mujerartes-exhibit/
LOCATION:MujerArtes Studio\, 816 S. Colorado St.\, San Antonio\, TX\, 78207\, United States
CATEGORIES:Exhibit,Exhibit Opening
ATTACH;FMTTYPE=image/jpeg:https://esperanzacenter.org/wp-content/uploads/2016/07/FB-header.jpg
END:VEVENT
END:VCALENDAR