BEGIN:VCALENDAR
VERSION:2.0
PRODID:-//Esperanza Peace and Justice Center - ECPv5.14.1//NONSGML v1.0//EN
CALSCALE:GREGORIAN
METHOD:PUBLISH
X-WR-CALNAME:Esperanza Peace and Justice Center
X-ORIGINAL-URL:https://esperanzacenter.org
X-WR-CALDESC:Events for Esperanza Peace and Justice Center
BEGIN:VTIMEZONE
TZID:America/Chicago
BEGIN:DAYLIGHT
TZOFFSETFROM:-0600
TZOFFSETTO:-0500
TZNAME:CDT
DTSTART:20190310T080000
END:DAYLIGHT
BEGIN:STANDARD
TZOFFSETFROM:-0500
TZOFFSETTO:-0600
TZNAME:CST
DTSTART:20191103T070000
END:STANDARD
END:VTIMEZONE
BEGIN:VEVENT
DTSTART;TZID=America/Chicago:20190508T180000
DTEND;TZID=America/Chicago:20190508T193000
DTSTAMP:20260421T054939
CREATED:20190507T152929Z
LAST-MODIFIED:20190507T155614Z
UID:5590-1557338400-1557343800@esperanzacenter.org
SUMMARY:Los Courts: An Exhibit about The Alazan-Apache Courts (Bazan Library) | Welcome Reception
DESCRIPTION:You are invited to the Bazan Branch Library to view an exhibition created by the Westside Preservation Alliance and the Esperanza Peace & Justice Center documenting the history of the Alazan-Apache Courts\, San Antonio’s oldest and largest public housing development. \nRECEPTION: Wednesday\, May 8 at 6pm-7:30pm. \nEXHIBIT/LIBRARY HOURS:\nSunday | 10am – 6pm\nMonday | 12pm – 8pm\nTuesday | 10am – 6pm\nWednesday | 12pm – 8pm\nThursday | 10am – 6pm\nFriday | 10am – 6pm\nSaturday | 10am – 6pm
URL:https://esperanzacenter.org/event/los-courts-an-exhibit-about-the-alazan-apache-courts-bazan-library/
LOCATION:Bazan Branch Library\, 2200 W Commerce St\, San Antonio\, TX\, 78207\, United States
CATEGORIES:Exhibit
ATTACH;FMTTYPE=image/jpeg:https://esperanzacenter.org/wp-content/uploads/2019/05/Los-Courts-Bazan-header.jpg
END:VEVENT
END:VCALENDAR