BEGIN:VCALENDAR
VERSION:2.0
PRODID:-//Esperanza Peace and Justice Center - ECPv5.14.1//NONSGML v1.0//EN
CALSCALE:GREGORIAN
METHOD:PUBLISH
X-WR-CALNAME:Esperanza Peace and Justice Center
X-ORIGINAL-URL:https://esperanzacenter.org
X-WR-CALDESC:Events for Esperanza Peace and Justice Center
BEGIN:VTIMEZONE
TZID:America/Chicago
BEGIN:DAYLIGHT
TZOFFSETFROM:-0600
TZOFFSETTO:-0500
TZNAME:CDT
DTSTART:20190310T080000
END:DAYLIGHT
BEGIN:STANDARD
TZOFFSETFROM:-0500
TZOFFSETTO:-0600
TZNAME:CST
DTSTART:20191103T070000
END:STANDARD
END:VTIMEZONE
BEGIN:VEVENT
DTSTART;TZID=America/Chicago:20191023T140000
DTEND;TZID=America/Chicago:20191023T190000
DTSTAMP:20260421T101342
CREATED:20191022T170340Z
LAST-MODIFIED:20191022T170340Z
UID:6420-1571839200-1571857200@esperanzacenter.org
SUMMARY:La Voz Mailout Folding - Day of the Dead Issue
DESCRIPTION:Buena Gente\, we need your help folding our community newsjournal\, La Voz de Esperanza! Can you join us for the La Voz Mailout on Wednesday\, October 23\, 2019 from 2pm – 7pm? \nThis month\, we’ll be folding the special Día de los Muertos issue\, which is packed with poetry and illustrations! \nAny time you can spare to help us fold\, whether its 30 minutes or a few hours\, is greatly appreciated and needed. \nWe’ll provide lunch and snacks!
URL:https://esperanzacenter.org/event/la-voz-mailout-folding-day-of-the-dead-issue/
LOCATION:Esperanza Peace and Justice Center\, 922 San Pedro Ave\, San Antonio\, TX\, 78212
CATEGORIES:Volunteer Opportunity
ATTACH;FMTTYPE=image/jpeg:https://esperanzacenter.org/wp-content/uploads/2019/10/LaVoz-Nov2019.jpg
END:VEVENT
END:VCALENDAR