BEGIN:VCALENDAR
VERSION:2.0
PRODID:-//Esperanza Peace and Justice Center - ECPv5.14.1//NONSGML v1.0//EN
CALSCALE:GREGORIAN
METHOD:PUBLISH
X-WR-CALNAME:Esperanza Peace and Justice Center
X-ORIGINAL-URL:https://esperanzacenter.org
X-WR-CALDESC:Events for Esperanza Peace and Justice Center
BEGIN:VTIMEZONE
TZID:America/Chicago
BEGIN:DAYLIGHT
TZOFFSETFROM:-0600
TZOFFSETTO:-0500
TZNAME:CDT
DTSTART:20190310T080000
END:DAYLIGHT
BEGIN:STANDARD
TZOFFSETFROM:-0500
TZOFFSETTO:-0600
TZNAME:CST
DTSTART:20191103T070000
END:STANDARD
END:VTIMEZONE
BEGIN:VEVENT
DTSTART;TZID=America/Chicago:20190124T110000
DTEND;TZID=America/Chicago:20190124T160000
DTSTAMP:20260421T101145
CREATED:20190123T000151Z
LAST-MODIFIED:20190123T000151Z
UID:5218-1548327600-1548345600@esperanzacenter.org
SUMMARY:La Voz Folding | February 2019 Issue
DESCRIPTION:Buena Gente\, we need your help folding our community\nnewsjournal\, La Voz de Esperanza! Can you join us for the La Voz Mailout on Thursday\, January 24\, 2018 from 11am – 4pm. \nBeen wanting to volunteer\, need community service hours\, want to meet great buena gente? Stop by Esperanza @ 922 San Pedro\, and help us fold La Voz in preparation to mail. \nAny time you can spare\, whether its 30 minutes or a few hours\, is greatly appreciated and needed. \nWe’ll provide lunch and snacks!\n——\nIN THIS ISSUE:\nHilos que hablan: The Textile Legacy and Life of Mariana Ornelas by Gloria A. Ramírez • A Brief History of the San Antonio Woolworth Building by Beth Standifird • Arundhati Roy in the Face of Rising Fascism: Interview by Laura Flanders • JT Deeley (1977-2018): Energy Dusk to Energy Dawn by Marisol Cortez & Greg Harman • Julian Castro for President: The Changing Face of the United States by Joel Rodríguez • US Border Patrol Unleashes Tear Gas Against Children in Mexico by Jake Johnson • Refugees (poem) by Tom Keene • Here\, There (poem) by Pablo Martinez
URL:https://esperanzacenter.org/event/la-voz-folding-february-2019-issue/
LOCATION:Esperanza Peace and Justice Center\, 922 San Pedro Ave\, San Antonio\, TX\, 78212
CATEGORIES:Volunteer Opportunity
ATTACH;FMTTYPE=image/png:https://esperanzacenter.org/wp-content/uploads/2019/01/LaVoz.png
END:VEVENT
END:VCALENDAR