BEGIN:VCALENDAR
VERSION:2.0
PRODID:-//Esperanza Peace and Justice Center - ECPv5.14.1//NONSGML v1.0//EN
CALSCALE:GREGORIAN
METHOD:PUBLISH
X-WR-CALNAME:Esperanza Peace and Justice Center
X-ORIGINAL-URL:https://esperanzacenter.org
X-WR-CALDESC:Events for Esperanza Peace and Justice Center
BEGIN:VTIMEZONE
TZID:America/Chicago
BEGIN:DAYLIGHT
TZOFFSETFROM:-0600
TZOFFSETTO:-0500
TZNAME:CDT
DTSTART:20190310T080000
END:DAYLIGHT
BEGIN:STANDARD
TZOFFSETFROM:-0500
TZOFFSETTO:-0600
TZNAME:CST
DTSTART:20191103T070000
END:STANDARD
END:VTIMEZONE
BEGIN:VEVENT
DTSTART;TZID=America/Chicago:20190524T183000
DTEND;TZID=America/Chicago:20190524T210000
DTSTAMP:20260421T041959
CREATED:20190516T171104Z
LAST-MODIFIED:20190516T171104Z
UID:5645-1558722600-1558731600@esperanzacenter.org
SUMMARY:Knock Down The House | Film Screening + Plática
DESCRIPTION:Join us for a community film screening of Knock Down The House on Friday\, May 24th at the Esperanza. \nAt a crucial moment in American politics\, Knock Down the House shares the story of four women who\, without political experience or corporate money\, help build a movement of insurgent candidates challenging powerful incumbents in Congress. Their efforts result in a legendary upset. \nDoors will open at 6:30pm and the film will start screening at 7pm. Light refreshments will be available!
URL:https://esperanzacenter.org/event/knock-down-the-house-film-screening-platica/
LOCATION:Esperanza Peace and Justice Center\, 922 San Pedro Ave\, San Antonio\, TX\, 78212
CATEGORIES:Film Screening,Platica
ATTACH;FMTTYPE=image/jpeg:https://esperanzacenter.org/wp-content/uploads/2019/05/60342137_2499025090130014_3944845109673066496_n.jpg
END:VEVENT
END:VCALENDAR