BEGIN:VCALENDAR
VERSION:2.0
PRODID:-//Esperanza Peace and Justice Center - ECPv5.14.1//NONSGML v1.0//EN
CALSCALE:GREGORIAN
METHOD:PUBLISH
X-WR-CALNAME:Esperanza Peace and Justice Center
X-ORIGINAL-URL:https://esperanzacenter.org
X-WR-CALDESC:Events for Esperanza Peace and Justice Center
BEGIN:VTIMEZONE
TZID:America/Chicago
BEGIN:DAYLIGHT
TZOFFSETFROM:-0600
TZOFFSETTO:-0500
TZNAME:CDT
DTSTART:20190310T080000
END:DAYLIGHT
BEGIN:STANDARD
TZOFFSETFROM:-0500
TZOFFSETTO:-0600
TZNAME:CST
DTSTART:20191103T070000
END:STANDARD
END:VTIMEZONE
BEGIN:VEVENT
DTSTART;TZID=America/Chicago:20190522T183000
DTEND;TZID=America/Chicago:20190522T200000
DTSTAMP:20260421T054651
CREATED:20190508T201714Z
LAST-MODIFIED:20190508T201714Z
UID:5605-1558549800-1558555200@esperanzacenter.org
SUMMARY:Historic Preservation as a Social Justice Imperative
DESCRIPTION:Heritage conservation is a critical component in understanding and fostering appreciation of our past and in supporting our communities in the present day. This panel discussion will consider the role of historic preservation in the broader context of civil rights and social justice\, how we can increase equity in historic preservation\, how we can engage our communities in historic preservation to save our neighborhoods\, and current challenges to inclusion in preservation policy\, education\, and recruitment at local and national levels. \nAs always\, Library events are opened to the public and free to attend! \nPanel discussion will be led by: \nSarah Zenaida Gould\, Ph.D.\nDirector\, Museo del Westside a project of the Esperanza Peace & Justice Center\, Co-Chair\, Latin@s in Heritage Conservation\, & member\, Westside Preservation Alliance \nGraciela I. Sanchez\nExecutive Director\, Esperanza Peace & Justice Center & member\, Westside Preservation Alliance \nFred L. McGhee\, Ph.D.\nPresident\, Montopolis Community Development Corporation
URL:https://esperanzacenter.org/event/historic-preservation-as-a-social-justice-imperative/
LOCATION:San Antonio Central Library\, 600 Soledad St.\, San Antonio\, TX\, United States
CATEGORIES:Platica
ATTACH;FMTTYPE=image/jpeg:https://esperanzacenter.org/wp-content/uploads/2019/05/Fb-cover.jpg
END:VEVENT
END:VCALENDAR