BEGIN:VCALENDAR
VERSION:2.0
PRODID:-//Esperanza Peace and Justice Center - ECPv5.14.1//NONSGML v1.0//EN
CALSCALE:GREGORIAN
METHOD:PUBLISH
X-WR-CALNAME:Esperanza Peace and Justice Center
X-ORIGINAL-URL:https://esperanzacenter.org
X-WR-CALDESC:Events for Esperanza Peace and Justice Center
BEGIN:VTIMEZONE
TZID:America/Chicago
BEGIN:DAYLIGHT
TZOFFSETFROM:-0600
TZOFFSETTO:-0500
TZNAME:CDT
DTSTART:20180311T080000
END:DAYLIGHT
BEGIN:STANDARD
TZOFFSETFROM:-0500
TZOFFSETTO:-0600
TZNAME:CST
DTSTART:20181104T070000
END:STANDARD
END:VTIMEZONE
BEGIN:VEVENT
DTSTART;TZID=America/Chicago:20181206T183000
DTEND;TZID=America/Chicago:20181206T203000
DTSTAMP:20260423T081215
CREATED:20180820T185503Z
LAST-MODIFIED:20180820T185503Z
UID:4633-1544121000-1544128200@esperanzacenter.org
SUMMARY:Escuelitas and the Emergence of a Mexican American Identity in South Texas: A Conversation with Dr. Philis Barragán Goetz
DESCRIPTION:Escuelitas and the Emergence of a Mexican American Identity in South Texas: A Conversation with Dr. Philis Barragán Goetz \n\n\n \n\n\nJoin the Westside Preservation Alliance and the Esperanza for the third event of our Westside Community History & Preservation Speaker Series! There will be one more speaker in this series in December.\n\n\n \n\n\nThis series will explore community history and historic preservation in communities of color! \n\n\n \n\n\nFrom the 1880s to shortly after World War II\, escuelitas\, or little schools\, could be found across South Texas. Mostly run by women who taught Spanish literacy\, Mexican history\, and sometimes English proficiency\, the schools were a reaction to South Texas’ segregated Mexican schools where pupils were forbidden from speaking Spanish\, and Mexican American history was either excluded from the curriculum or demeaned by the teachers. Escuelitas filled in the gaps in schooling and built pride among Mexican American children. Dr. Barragan will share locations of escuelitas in South Texas and stories of the teachers and children associated with them. \n\n\n \n\n\nABOUT DR. PHILIS M. BARRAGAN GOETZ\n\n\nPhilis M. Barragán Goetz received her Ph.D. in American Studies from the University of Texas at Austin. She is an Assistant Professor of History at Texas A&M University-San Antonio\, where she teaches classes in Mexican American history\, women’s history\, Texas history\, and United States social and cultural history. She is also Texas A&M San Antonio’s community liaison to the San Antonio African American Community Archive and Museum. Her manuscript\, Reading\, Writing\, and Revolution: Escuelitas and the Emergence of a Mexican American Identity in Texas\, is under contract with the University of Texas Press.\n\n\n \n\n\n===\n\n\nSERIES SCHEDULE \n\n\n✨ September 11\, 2018 | 6:30pm ✨\n\n\nHistoric African-American Communities in San Anto w/ Everett Fly\n\n\n \n\n\n✨ October 23\, 2018 | 6:30pm ✨ \n\n\nResisting Barrio Displacement in El Paso w/ Yolanda Chávez Leyva\n\n\n \n\n\n✨ November 8\, 2018 | 6:30pm ✨\n\n\nPreserving African-American Sites in Austin with Dr. Fred McGhee\n\n\n \n\n\n✨ December 6\, 2018 | 6:30pm ✨\n\n\nEscuelitas and the Emergence of a Mexican American Identity in South Texas: A Conversation with Dr. Philis Barragán Goetz \n\n\n===\n\n\nThis program was made possible in part with a grant from Humanities Texas\, the state affiliate of the National Endowment for the Humanities.
URL:https://esperanzacenter.org/event/escuelitas-and-the-emergence-of-a-mexican-american-identity-in-south-texas-a-conversation-with-dr-philis-barragan-goetz/
LOCATION:Esperanza Peace and Justice Center\, 922 San Pedro Ave\, San Antonio\, TX\, 78212
CATEGORIES:Platica
ATTACH;FMTTYPE=image/jpeg:https://esperanzacenter.org/wp-content/uploads/2018/08/PhilisGoetz.jpg
END:VEVENT
END:VCALENDAR