BEGIN:VCALENDAR
VERSION:2.0
PRODID:-//Esperanza Peace and Justice Center - ECPv5.14.1//NONSGML v1.0//EN
CALSCALE:GREGORIAN
METHOD:PUBLISH
X-WR-CALNAME:Esperanza Peace and Justice Center
X-ORIGINAL-URL:https://esperanzacenter.org
X-WR-CALDESC:Events for Esperanza Peace and Justice Center
BEGIN:VTIMEZONE
TZID:America/Chicago
BEGIN:DAYLIGHT
TZOFFSETFROM:-0600
TZOFFSETTO:-0500
TZNAME:CDT
DTSTART:20200308T080000
END:DAYLIGHT
BEGIN:STANDARD
TZOFFSETFROM:-0500
TZOFFSETTO:-0600
TZNAME:CST
DTSTART:20201101T070000
END:STANDARD
END:VTIMEZONE
BEGIN:VEVENT
DTSTART;TZID=America/Chicago:20200711T140000
DTEND;TZID=America/Chicago:20200711T160000
DTSTAMP:20260421T105040
CREATED:20200627T044810Z
LAST-MODIFIED:20200627T050437Z
UID:7414-1594476000-1594483200@esperanzacenter.org
SUMMARY:Dr. Norma Cantu Workshop: The Writer As Witness: Virtual Creative Nonfiction & Memoir Writing
DESCRIPTION:Please join us for this wonderful writing workshop\, The Writer As Witness: Virtual Creative Nonfiction & Memoir Writing\,” with Dr. Norma Cantu on Saturday\, July 11\, 2020 from 2-4 PM CST ! This virtual workshop will be via Zoom. Admission for this workshop is $3-10 más o menos. We are continuing to raise funds to help sustain the advocacy work and cultural arts programming of the Esperanza. Thank you!\nOrder tickets at EventBrite
URL:https://esperanzacenter.org/event/dr-norma-cantu-workshop-the-writer-as-witness-virtual-creative-nonfiction-memoir-writing/
LOCATION:Zoom Meeting
END:VEVENT
END:VCALENDAR