BEGIN:VCALENDAR
VERSION:2.0
PRODID:-//Esperanza Peace and Justice Center - ECPv5.14.1//NONSGML v1.0//EN
CALSCALE:GREGORIAN
METHOD:PUBLISH
X-WR-CALNAME:Esperanza Peace and Justice Center
X-ORIGINAL-URL:https://esperanzacenter.org
X-WR-CALDESC:Events for Esperanza Peace and Justice Center
BEGIN:VTIMEZONE
TZID:America/Chicago
BEGIN:DAYLIGHT
TZOFFSETFROM:-0600
TZOFFSETTO:-0500
TZNAME:CDT
DTSTART:20190310T080000
END:DAYLIGHT
BEGIN:STANDARD
TZOFFSETFROM:-0500
TZOFFSETTO:-0600
TZNAME:CST
DTSTART:20191103T070000
END:STANDARD
END:VTIMEZONE
BEGIN:VEVENT
DTSTART;TZID=America/Chicago:20191101T170000
DTEND;TZID=America/Chicago:20191101T230000
DTSTAMP:20260421T084814
CREATED:20190916T171125Z
LAST-MODIFIED:20250527T020526Z
UID:6231-1572627600-1572649200@esperanzacenter.org
SUMMARY:Dia de los Muertos Celebration con Esperanza
DESCRIPTION:Join us in celebrating our dearly departed familia\, friends\, and ancestors at our annual Día de los Muertos celebration! Admission is free! \nThere will be displays of community altars/ofrendas\, live music\, face painting for children\, food\, and more! The evening will highlight readings of literary ofrendas to remember our dead\, and calavera poems that poke fun at the living and their untimely encounters with La Muerte or La Catrina. We will also have a procession through the neighborhood\, so please join us! Folks are welcome to dress up and bring an instrument or noise maker for the procession. \nAnd now that our clay cooperative MujerArtes is in their new adobe/compressed earth block studio at the Rinconcito\, visitors will be able to see the culmination of the women’s hard work and creative endeavors. They will be selling Day of the Dead clay artwork and more! \nConcessions of hot chocolate\, tamales\, and the traditional pan de muerto will be available. Vegan options will be available. \nJoin us in conserving our traditions and celebrating our cultura in El Westside de San Antonio! \nIn addition to the Día de los Muertos celebration\, the Esperanza will host a series of Day of the Dead workshops IN OCTOBER for community members to learn the various aspects of this cultural tradition. The workshops will include how to make ofrendas/altares\, paper flowers\, and sugar skulls. For more info on our Day of the Dead celebration\, workshops in October\, or if you’d like to make an altar\, please call 210.228.0201!\n \nPerformance Lineup\n\n\n\n\n5:00pm\nConjunto Heritage Taller\n\n\n5:30pm\nLas Tesoros de San Antonio\n\n\n6:00pm\nCommunity Procession\n\n\n7:00pm\nAzul\n\n\n7:45pm\nCalavera Readings\n\n\n8:00pm\nPanfilo’s Güera\n\n\n8:45pm\nAlyson Alonzo\n\n\n9:15pm\nBene Medina y Su Conjunto Aguila\n\n\n10:15pm\nVolcán\n\n\n\n\nWant to volunteer? \n\n \npowered by Typeform\n—\n \npowered by Typeform
URL:https://esperanzacenter.org/event/dia-de-los-muertos-2019/
LOCATION:Rinconcito de Esperanza\, 816 S Colorado (@ Guadalupe St)\, San Antonio\, TX\, 78207
CATEGORIES:Community Festival,Festival
ATTACH;FMTTYPE=image/jpeg:https://esperanzacenter.org/wp-content/uploads/2019/09/DiaDeLosMuertos_FBcover-smaller-1.jpg
END:VEVENT
END:VCALENDAR