BEGIN:VCALENDAR
VERSION:2.0
PRODID:-//Esperanza Peace and Justice Center - ECPv5.14.1//NONSGML v1.0//EN
CALSCALE:GREGORIAN
METHOD:PUBLISH
X-WR-CALNAME:Esperanza Peace and Justice Center
X-ORIGINAL-URL:https://esperanzacenter.org
X-WR-CALDESC:Events for Esperanza Peace and Justice Center
BEGIN:VTIMEZONE
TZID:America/Chicago
BEGIN:DAYLIGHT
TZOFFSETFROM:-0600
TZOFFSETTO:-0500
TZNAME:CDT
DTSTART:20200308T080000
END:DAYLIGHT
BEGIN:STANDARD
TZOFFSETFROM:-0500
TZOFFSETTO:-0600
TZNAME:CST
DTSTART:20201101T070000
END:STANDARD
END:VTIMEZONE
BEGIN:VEVENT
DTSTART;TZID=America/Chicago:20201212T180000
DTEND;TZID=America/Chicago:20201212T190000
DTSTAMP:20260425T071407
CREATED:20201207T182121Z
LAST-MODIFIED:20201207T182442Z
UID:8081-1607796000-1607799600@esperanzacenter.org
SUMMARY:Danza de Matachines
DESCRIPTION:Please join us for a community discussion on the history of the folk tradition of Danza de Matachines on December 12th at 6:00 PM Central Time! Featuring Dr. Norma Cantu and the families of the Matachines de la Santa Cruz de la Ladrillera of Laredo. Streaming Live on Facebook! \nTune in via Facebook @ www.facebook.com/esperanzacenter \nThe Matachines are a ritual folk tradition that emerged in 17th century Spain and was imported into Latin America\, where it merged with indigenous traditions and has been continued for at least 200 years. In northern Mexico and Texas los matachines “de la flecha” and carry a stylized bow and arrow and a maraca\, a rattle. Troupes throughout Mexico\, Texas and across the United States dance for 9 days prior to December 11\, culminating in an all-night vigil or at least hours-long dancing on the 11th for the Virgen de Guadalupe. \nLos Matachines de la Santa Cruz de la Ladrillera received a National Heritage Award from the National Endowment for the Arts in 2020. The group traces its origins to the 1800s to a mining area in Central Mexico\, and then to Las Minas along the US-Mexico border\, before establishing the tradition in Laredo in the early 20th century. \nThis programming is made possible by our generous donors and Buena Gente. Donate via credit card @ www.esperanzacenter.org/donate or www.venmo.com/esperanzacenter
URL:https://esperanzacenter.org/event/danza-de-matachines/
LOCATION:Online
ATTACH;FMTTYPE=image/jpeg:https://esperanzacenter.org/wp-content/uploads/2020/12/Programming-Continued.jpg
END:VEVENT
END:VCALENDAR