BEGIN:VCALENDAR
VERSION:2.0
PRODID:-//Esperanza Peace and Justice Center - ECPv5.14.1//NONSGML v1.0//EN
CALSCALE:GREGORIAN
METHOD:PUBLISH
X-WR-CALNAME:Esperanza Peace and Justice Center
X-ORIGINAL-URL:https://esperanzacenter.org
X-WR-CALDESC:Events for Esperanza Peace and Justice Center
BEGIN:VTIMEZONE
TZID:America/Chicago
BEGIN:DAYLIGHT
TZOFFSETFROM:-0600
TZOFFSETTO:-0500
TZNAME:CDT
DTSTART:20190310T080000
END:DAYLIGHT
BEGIN:STANDARD
TZOFFSETFROM:-0500
TZOFFSETTO:-0600
TZNAME:CST
DTSTART:20191103T070000
END:STANDARD
END:VTIMEZONE
BEGIN:VEVENT
DTSTART;VALUE=DATE:20191101
DTEND;VALUE=DATE:20191108
DTSTAMP:20260421T101209
CREATED:20191015T212358Z
LAST-MODIFIED:20191025T075357Z
UID:6387-1572570000-1573088399@esperanzacenter.org
SUMMARY:Día de los Muertos Community Ofrenda Exhibit
DESCRIPTION:The community altars/ofrendas created for our Día de los Muertos Celebration con Esperanza will stay on display after November 1 so that community can visit\, learn more about the traditions\, and pay their respects. \nExhibit Hours\nFriday\, November 1: 5pm-11pm (OPENING during Day of the Dead Celebration)\nSaturday\, November 2: 12pm-7pm\nSunday\, November 3: 12pm-5pm\nMonday\, November 4: 10am-6pm\nTuesday\, November 5: 10am-6pm\nWednesday\, November 6: 10am-6pm \n  \n  \n 
URL:https://esperanzacenter.org/event/community-dia-de-los-muertos-ofrenda-exhibit/
LOCATION:Rinconcito de Esperanza\, 816 S Colorado (@ Guadalupe St)\, San Antonio\, TX\, 78207
CATEGORIES:Exhibit
ATTACH;FMTTYPE=image/jpeg:https://esperanzacenter.org/wp-content/uploads/2019/10/image-48.jpg
END:VEVENT
END:VCALENDAR