BEGIN:VCALENDAR
VERSION:2.0
PRODID:-//Esperanza Peace and Justice Center - ECPv5.14.1//NONSGML v1.0//EN
CALSCALE:GREGORIAN
METHOD:PUBLISH
X-WR-CALNAME:Esperanza Peace and Justice Center
X-ORIGINAL-URL:https://esperanzacenter.org
X-WR-CALDESC:Events for Esperanza Peace and Justice Center
BEGIN:VTIMEZONE
TZID:America/Chicago
BEGIN:DAYLIGHT
TZOFFSETFROM:-0600
TZOFFSETTO:-0500
TZNAME:CDT
DTSTART:20170312T080000
END:DAYLIGHT
BEGIN:STANDARD
TZOFFSETFROM:-0500
TZOFFSETTO:-0600
TZNAME:CST
DTSTART:20171105T070000
END:STANDARD
END:VTIMEZONE
BEGIN:VEVENT
DTSTART;TZID=America/Chicago:20171022T123000
DTEND;TZID=America/Chicago:20171022T133000
DTSTAMP:20260421T055107
CREATED:20171013T211224Z
LAST-MODIFIED:20180525T193018Z
UID:3198-1508675400-1508679000@esperanzacenter.org
SUMMARY:Christmas in October || Las Tesoros de San Antonio
DESCRIPTION:Las Tesoros de San Antonio will be performing from 12:30pm to 1:30pm at the Christmas in October event at the Coronado Room at the El Tropicano Hotel.\nEVENT:  “Christmas in October”\nDATE:  Sunday\, Oct 22\, 2017\nTIME:  10 am to 3 pm\nPLACE:  Coronado Room\, El Tropicano Hotel\nBAZAAR:  10 am to 3 pm\nLUNCH:   11:30 am to 12:30 pm\nPERFORMANCE-LAS TESOROS:  12:30-1:30 pm\nEVENT ENDS:  3 pm \nFor questions about the event\, please contact panamericanleague@gmail.com .
URL:https://esperanzacenter.org/event/christmas-in-july-las-tesoros-de-san-antonio/
LOCATION:El Tropicano Hotel\, 110 Lexington Ave\, San Antonio\, TX\, 78205\, United States
CATEGORIES:Concert,Performance
ATTACH;FMTTYPE=image/jpeg:https://esperanzacenter.org/wp-content/uploads/2017/10/image1.jpg
END:VEVENT
END:VCALENDAR