BEGIN:VCALENDAR
VERSION:2.0
PRODID:-//Esperanza Peace and Justice Center - ECPv5.14.1//NONSGML v1.0//EN
CALSCALE:GREGORIAN
METHOD:PUBLISH
X-WR-CALNAME:Esperanza Peace and Justice Center
X-ORIGINAL-URL:https://esperanzacenter.org
X-WR-CALDESC:Events for Esperanza Peace and Justice Center
BEGIN:VTIMEZONE
TZID:America/Chicago
BEGIN:DAYLIGHT
TZOFFSETFROM:-0600
TZOFFSETTO:-0500
TZNAME:CDT
DTSTART:20180311T080000
END:DAYLIGHT
BEGIN:STANDARD
TZOFFSETFROM:-0500
TZOFFSETTO:-0600
TZNAME:CST
DTSTART:20181104T070000
END:STANDARD
END:VTIMEZONE
BEGIN:VEVENT
DTSTART;VALUE=DATE:20180322
DTEND;VALUE=DATE:20180324
DTSTAMP:20260421T132133
CREATED:20180113T000927Z
LAST-MODIFIED:20180131T002329Z
UID:3350-1521680400-1521766799@esperanzacenter.org
SUMMARY:Big Give SA 2018
DESCRIPTION:Join us for Big Give SA and help support the Esperanza’s 2018 programming and organizing! \nYour gift of $10\, $20\, $50\, or more\, or your commitment to become a monthly donor\, is a gift of solidarity\, supporting our shared goal of creating a more just\, inclusive\, and progressive community for all of us. \nEsperanza was founded 30 years ago with the dream of creating a place where people working for peace and justice in San Antonio and around the world could come together to share our vision\, our resources\, and our hope for the future. \nYour donation helps fund women centered\, people of color\, LGBTQ+\, working class programming and activism. Your donation helps us to continue to fight for peace and justice. Your donation helps us stick around for another 30 years. If you prefer to donate NOW\, you can click here for donation options! \nCheck out our Big Give SA page online to donate on March 22nd! \nDonate to Esperanza for the Big Give
URL:https://esperanzacenter.org/event/big-give-sa-2018/
LOCATION:Esperanza Peace and Justice Center\, 922 San Pedro Ave\, San Antonio\, TX\, 78212
CATEGORIES:Fundraising Event
ATTACH;FMTTYPE=image/jpeg:https://esperanzacenter.org/wp-content/uploads/2018/01/savethedate-biggive2018.jpg
END:VEVENT
END:VCALENDAR