BEGIN:VCALENDAR
VERSION:2.0
PRODID:-//Esperanza Peace and Justice Center - ECPv5.14.1//NONSGML v1.0//EN
CALSCALE:GREGORIAN
METHOD:PUBLISH
X-WR-CALNAME:Esperanza Peace and Justice Center
X-ORIGINAL-URL:https://esperanzacenter.org
X-WR-CALDESC:Events for Esperanza Peace and Justice Center
BEGIN:VTIMEZONE
TZID:America/Chicago
BEGIN:DAYLIGHT
TZOFFSETFROM:-0600
TZOFFSETTO:-0500
TZNAME:CDT
DTSTART:20210314T080000
END:DAYLIGHT
BEGIN:STANDARD
TZOFFSETFROM:-0500
TZOFFSETTO:-0600
TZNAME:CST
DTSTART:20211107T070000
END:STANDARD
END:VTIMEZONE
BEGIN:VEVENT
DTSTART;TZID=America/Chicago:20210523T180000
DTEND;TZID=America/Chicago:20210523T193000
DTSTAMP:20260421T044228
CREATED:20210520T213115Z
LAST-MODIFIED:20210520T213115Z
UID:8850-1621792800-1621798200@esperanzacenter.org
SUMMARY:A Conversation About Palestine
DESCRIPTION:The current situation in Palestine has garnered a lot of attention both in the mainstream media and on social media. \nGaza has been under attack by Israel for 11 days now following rocket attacks by Hamas into Israel. However\, what the media doesn’t tell us is that those rockets were in response to Israeli forces attacking Palestinians in the Aqsa mosque towards the end of the holy month of Ramadan with stun grenades and tear gas. Tensions were already running high in Jerusalem due to Israeli attempts to forcefully evict Palestinians from their homes in the Sheikh Jarrah neighborhood in East Jerusalem and replace them with Israeli Jewish settlers as part of an ongoing process of ethnic cleansing in Jerusalem and all over historic Palestine. \nIn addition\, as Americans we need to be aware of the role our government and tax dollars play in unequivocally supporting the Israeli government in its oppression of the palestinian people. \nIn order to understand the situation better and learn some of the history\, please join the Esperanza Peace and Justice Center for A Conversation About Palestine. You’ll have a chance to ask questions of our panelists who include: Moureen Kaki\, Ahmad Kaki\, and Lama Hantash. The discussion will be moderated by Nadine Saliba. \nTune in via YouTube @ www.youtube.com/esperanzacenter\nTune in via Facebook @ www.facebook.com/esperanzacenter\nTune in via Twitter @ www.twitter.com/esperanzacenter \nThis programming is made possible by our generous donors and Buena Gente.\nDonate via credit card @ www.esperanzacenter.org/donate or www.venmo.com/esperanzacenter. Gracias!
URL:https://esperanzacenter.org/event/a-conversation-about-palestine/
LOCATION:Online
ATTACH;FMTTYPE=image/png:https://esperanzacenter.org/wp-content/uploads/2021/05/2.png
END:VEVENT
END:VCALENDAR